Workbook

Sheet CLIENTS
A1: CLIENTS
A3: DATE | B3: N° de facture | C3: TRANSAC | D3: CLIENTS | E3: Échéances | F3: HT | G3: TVA | H3: TTC | I3: Réglé
A5: JANVIER
A6: 16.01.2025 | B6: 3654-0125 | C6: JPC250102 | D6: GEMINI | E6: 16.02.2025 | F6: 5462.25 | G6: 0 | H6: =F6+G6 -> 5462.25 | I6: Payé le 17.02.2025
A7: 20.01.2025 | B7: 3655-0125 | C7: SL250101 | D7: NEVEUX-SEBICO | E7: 15.03.2025 | F7: 16848 | G7: =F7*20% -> 3369.6 | H7: =SUM(F7:G7) -> 20217.6 | I7: Payé le 18.03.2025
A8: 20.01.2025 | B8: 3656-0125 | C8: SL250102 | D8: GVJ MATERIELS | E8: Paiement avant livraison | F8: 3250 | G8: 0 | H8: 3250 | I8: Payé 3250 € le 15.01.2025
A9: 20.01.2025 | B9: 3657-0125 | C9: JPC250101 | D9: Véolia PMG | E9: 28.02.2025 | F9: 10328 | G9: =F9*0.2 -> 2065.6 | H9: =F9+G9 -> 12393.6 | I9: Payé le 28.02.2025
A10: 21.01.2025 | B10: 3658-0125 | C10: SL250107 | D10: GEMINI | E10: 20.02.2025 | F10: 2939.26 | G10: 0 | H10: =SUM(F10:G10) -> 2939.26 | I10: Payé le 18.02.2025
A11: 23.01.2025 | B11: 3659-0125 | C11: SL250108 | D11: GEMINI | E11: 22.02.2025 | F11: 3898.2 | G11: 0 | H11: 3898.2 | I11: Payé le 20.02.2025
A12: 27.01.2025 | B12: 3660-0125 | C12: JPC250105 | D12: GEMINI | E12: 27.02.2025 | F12: 4540.9 | G12: 0 | H12: =F12+G12 -> 4540.9 | I12: Payé le 25.02.2025
A13: 31.01.2025 | B13: 3661-0125 | C13: SL250104, SL250116,SL250117 | D13: NPPM | E13: 15.03.2025 | F13: 1278 | G13: =F13*20% -> 255.6 | H13: =SUM(F13:G13) -> 1533.6 | I13: Payé le 18.03.2025
A14: 31.01.2025 | B14: 3662-0125 | C14: SL250109 | D14: TT PLAST | E14: 18.02.2025 | F14: 6145.78 | G14: 0 | H14: =SUM(F14:G14) -> 6145.78 | I14: Payé le 17.02.2025
A15: 31.01.2025 | B15: 3663-0125 | C15: SL250104, SL250116,SL250117 | D15: CHÂTEAU D'EAU | E15: 30.03.2025 | F15: 1050 | G15: =F15*20% -> 210 | H15: =SUM(F15:G15) -> 1260 | I15: Payé le 01.04.2025
A16: 31.01.2025 | B16: 3664-0125 | C16: SL250113, SL250115 | D16: ARFP | E16: 30.03.2025 | F16: 2466.25 | G16: =F16*20% -> 493.25 | H16: =SUM(F16:G16) -> 2959.5 | I16: Payé le 31.03.2025
A17: 31.01.2025 | B17: 3665-0125 | C17: SL250103, SL250106, SL250110 | D17: SFP Thermo | E17: 15.03.2025 | F17: 3530.75 | G17: =F17*20% -> 706.15 | H17: =SUM(F17:G17) -> 4236.9 | I17: Payé le 15.03.2025
A18: 31.01.2025 | B18: 3666-0125 | C18: SL250114 | D18: RECYTHERM | E18: 30.03.2025 | F18: 1783.6 | G18: =F18*20% -> 356.72 | H18: =SUM(F18:G18) -> 2140.32 | I18: Payé le 25.04.2025
A19: 31.01.2025 | B19: 3667-0125 | C19: SL250112 | D19: PLASTICOS LARROSA | E19: 02.03.2025 | F19: 6635.45 | G19: 0 | H19: =SUM(F19:G19) -> 6635.45 | I19: Payé le 25.02.2025
A20: 31.01.2025 | B20: 3668-0125 | C20: Prestations Janvier 2025 | D20: DEFEAUS | E20: 15.03.2025 | F20: 1234.88 | G20: =F20*20% -> 246.976 | H20: =SUM(F20:G20) -> 1481.856 | I20: Payé le 31.03.2025
A21: 31.01.2025 | B21: 3669-0125 | C21: Prestations Janvier 2025 | D21: EUREAUSOURCES MAROLLES | E21: 15.03.2025 | F21: 3327.64 | G21: =F21*20% -> 665.528 | H21: =SUM(F21:G21) -> 3993.168 | I21: Payé le 31.03.2025
A22: 31.01.2025 | B22: 3670-0125 | C22: Big-bags Neufs + transport | D22: EUREAU SOURCES Monteux | E22: 15.03.2025 | F22: 570 | G22: =F22*20% -> 114 | H22: =SUM(F22:G22) -> 684 | I22: Payé le 31.03.2025
A23: 31.01.2025 | B23: 3671-0125 | C23: JPC250106 | D23: Véolia PMG | E23: 31.03.2025 | F23: 11330 | G23: =F23*20% -> 2266 | H23: =SUM(F23:G23) -> 13596 | I23: Payé le 01.04.2025
A24: 31.01.2025 | B24: 3672-0125 | C24: SL250118 | D24: ARFP | E24: 30.03.2025 | F24: 48.6 | G24: =F24*0.2 -> 9.72 | H24: =F24+G24 -> 58.32 | I24: Payé le 31.03.2025
A25: 31.01.2025 | B25: 3673-0125 | C25: SL250110 (refacturation Transport) | D25: BUTIN-SEDIC | E25: 30.03.2025 | F25: 250 | G25: =F25*20% -> 50 | H25: =SUM(F25:G25) -> 300 | I25: Payé le 07.04.2025
A26: 31.01.2025 | B26: 3674-0125 | C26: SL250105, SL250111 | D26: ARFP | E26: 30.03.2025 | F26: 368.4 | G26: =F26*20% -> 73.68 | H26: =SUM(F26:G26) -> 442.08 | I26: Payé le 31.03.2025
A27: 31.01.2025 | B27: 3675-0125 | C27: SL250115 | D27: Eureausources (Monteux) | E27: 15.03.2025 | F27: 118.2 | G27: =F27*20% -> 23.64 | H27: =SUM(F27:G27) -> 141.84 | I27: Payé le 31.03.2025
A28: 31.01.2025 | B28: 3676-0125 | C28: JPC250103 | D28: RAVAGO | E28: 31.03.2025 | F28: 10373.58 | G28: 0 | H28: =SUM(F28:G28) -> 10373.58 | I28: Payé le 31.03.2025
A29: 31.01.2025 | B29: 3677-0125 | C29: JPC250104 | D29: RAVAGO | E29: 31.03.2025 | F29: 12513.4 | G29: 0 | H29: =SUM(F29:G29) -> 12513.4 | I29: Payé le 31.03.2025
A30: TOTAL | F30: =SUM(F6:F29) -> 110291.14 | G30: =SUM(G6:G29) -> 10906.464 | H30: =SUM(H6:H29) -> 121197.6
A31: FEVRIER
A32: 19.02.2025 | B32: 3678-0225 | C32: JPC250201 | D32: GEMINI | E32: 19.03.2025 | F32: 5624 | G32: 0 | H32: =F32+G32 -> 5624 | I32: Payé le 20.03.2025
A33: 28.02.2025 | B33: 3679-0125 | C33: JPC250103 | D33: RAVAGO | E33: IMMEDIAT | F33: -1804.1 | G33: 0 | H33: =F33+G33 -> -1804.1 | I33: Déduit le 31.03.2025
A34: 28.02.2025 | B34: 3680-0225 | C34: SL250202 | D34: TOUSSAC | E34: 31.03.2025 | F34: 7570.9 | G34: 0 | H34: =F34+G34 -> 7570.9 | I34: Payé le 23.04.2025
A35: 28.02.2025 | B35: 3681-0225 | C35: SL250203A | D35: TTPLAST | E35: 15.03.2025 | F35: 1366.51 | G35: 0 | H35: =F35+G35 -> 1366.51 | I35: Payé le 17.03.2025
A36: 28.02.2025 | B36: 3682-0225 | C36: SL250203B | D36: NOREVAL | E36: 31.03.2025 | F36: 90.4 | G36: =F36*0.2 -> 18.08 | H36: =F36+G36 -> 108.48 | I36: Payé le 05.03.2025
A37: 28.02.2025 | B37: 3683-0225 | C37: SL250204 | D37: GEMINI | E37: 28.03.2025 | F37: 1202.5 | G37: 0 | H37: =F37+G37 -> 1202.5 | I37: Payé le 28.03.2025
A38: 28.02.2025 | B38: 3684-0225 | C38: SL250209 | D38: GEMINI | E38: 28.03.2025 | F38: 5011.5 | G38: 0 | H38: =F38+G38 -> 5011.5 | I38: Payé le 28.03.2025
A39: 28.02.2024 | B39: 3685-0225 | C39: SL250212 | D39: PLASTICOS LARROSA | E39: 28.03.2025 | F39: 6543.43 | G39: 0 | H39: =F39+G39 -> 6543.43 | I39: Payé le 07.03.2025
A40: 28.02.2025 | B40: 3686-0225 | C40: SL250214 | D40: GEMINI | E40: 28.03.2025 | F40: 1191.25 | G40: 0 | H40: =F40+G40 -> 1191.25 | I40: Payé le 28.03.2025
A41: 28.02.2025 | B41: 3687-0225 | C41: JPC250202 | D41: GEMINI | E41: 28.03.2025 | F41: 5517.2 | G41: 0 | H41: =F41+G41 -> 5517.2 | I41: Payé le 28.03.2025
A42: 28.02.2025 | B42: 3688-0225 | C42: JPC250203 | D42: GEMINI | E42: 28.03.2025 | F42: 2080.4 | G42: 0 | H42: =F42+G42 -> 2080.4 | I42: Payé le 28.03.2025
...

Sheet FOURNISSEURS
A1: FOURNISSEURS
A3: DATE | B3: N° de facture | C3: TRANSAC | D3: FOURNISSEUR | E3: Échéances | F3: HT | G3: TVA | H3: TTC | I3: Réglé
A5: JANVIER
A6: 06.01.2025 | B6: FA009002 | C6: JPC250101 | D6: REVIPLAST | E6: 20.02.2025 | F6: 9271.17 | G6: =F6*0.2 -> 1854.234 | H6: =F6+G6 -> 11125.404 | I6: Payé pour échéance le 19.02.2025
A7: 14.01.2025 | B7: 25000131 | C7: Achat matière EureauSources Marolles / Déc 24 | D7: EUREAU SOURCES MAROLLES | E7: 28.02.2025 | F7: 133.6 | G7: 0 | H7: 133.6 | I7: Payé le 24.02.2025 pour échéance
A8: 14.01.2025 | B8: 25000130 | C8: SL241202 | D8: EUREAU SOURCES (St Hippo) | E8: 28.02.2025 | F8: 1027.6 | G8: 0 | H8: 1027.6 | I8: Payé le 24.02.2025 pour échéance
A9: 14.01.2025 | B9: FA009010 | C9: JPC250102 | D9: REVIPLAST | E9: 28.02.2025 | F9: 4012.8 | G9: =F9*0.2 -> 802.56 | H9: =F9+G9 -> 4815.36 | I9: Payé le 24.02.2025 pour échéance
A10: 20.01.2025 | B10: FA114077 | C10: Achats Matières Déc. 2024 | D10: DEFEAUS Hermes | E10: 28.02.2025 | F10: 40.4 | G10: =F10*20% -> 8.08 | H10: =SUM(F10:G10) -> 48.48 | I10: Payé le 24.02.2025 pour échéance
A11: 23.01.2025 | B11: 25000237 | C11: SL241019 | D11: EUREAUSOURCES ( Monteux) | E11: 28.02.2025 | F11: 117 | G11: 0 | H11: 117 | I11: Payé le 24.02.2025 pour échéance
A12: 23.01.2025 | B12: 25000238 | C12: Achats Matières Novembre Marolles 60 | D12: Eureausources ( marolles) | E12: 28.02.2025 | F12: 122.8 | G12: 0 | H12: 122.8 | I12: Payé le 24.02.2025 pour échéance
A13: 24.01.2025 | B13: 1250014 | C13: SL250108 | D13: F.E.R | E13: 23.02.2025 | F13: 3185.48 | G13: 0 | H13: =SUM(F13:G13) -> 3185.48 | I13: Payé pour échéance le 19.02.2025
A14: 24.01.2025 | B14: FA009023 | C14: JPC250105 | D14: REVIPLAST | E14: 10.03.2025 | F14: 1932.2 | G14: =F14*0.2 -> 386.44 | H14: =F14+G14 -> 2318.64 | I14: Payé le 10.03.2025
A15: 29.01.2025 | B15: FA009037 | C15: JPC250104 | D15: REVIPLAST | E15: 15.03.2025 | F15: 10601.08 | G15: =F15*0.2 -> 2120.216 | H15: =F15+G15 -> 12721.296 | I15: Annulé par avoir FV000414
A16: 29.01.2025 | B16: FA009035 | C16: JPC250103 | D16: REVIPLAST | E16: 15.03.2025 | F16: 8749.88 | G16: =F16*0.2 -> 1749.976 | H16: =F16+G16 -> 10499.856 | I16: Payé le 17.03.2025 - avoir nºFV000412 déduit
A17: 29.01.2025 | B17: FA009034 | C17: JPC250106 | D17: REVIPLAST | E17: 15.03.2025 | F17: 9905.94 | G17: =F17*0.2 -> 1981.188 | H17: =F17+G17 -> 11887.128 | I17: Payé le 17.03.2025
A18: 30.01.2025 | B18: 903051 | C18: SL250109 | D18: ARFP | E18: 30.03.2025 | F18: 818.25 | G18: 0 | H18: 818.25 | I18: Payé le 31.03.2025
A19: 30.01.2025 | B19: 903045 | C19: SL250112 | D19: ARFP | E19: 30.03.2025 | F19: 2579.75 | G19: 130.35 | H19: =SUM(F19:G19) -> 2710.1 | I19: Payé le 31.03.2025
A20: 30.01.2025 | B20: 903044 | C20: SL250101 | D20: ARFP | E20: 30.03.2025 | F20: 13267.8 | G20: =F20*20% -> 2653.56 | H20: =F20+G20 -> 15921.36 | I20: Payé le 31.03.2025
A21: TOTAL | F21: =SUM(F6:F20) -> 65765.75 | G21: =SUM(G6:G20) -> 11686.604 | H21: =SUM(H6:H20) -> 77452.354
A22: FEVRIER
A23: 05.02.2025 | B23: FA009108 | C23: JPC250201 | D23: REVIPLAST | E23: 22.03.2025 | F23: 4527.55 | G23: =F23*0.2 -> 905.51 | H23: =F23+G23 -> 5433.06 | I23: Payé le 24.03.2025
A24: 12.02.2025 | B24: FC4077 | C24: SL250118 | D24: PAPI | E24: 15.03.2025 | F24: 24.3 | G24: 4.86 | H24: =SUM(F24:G24) -> 29.16 | I24: Payé le 17.03.2025
A25: 18.02.2025 | B25: 25000616 | C25: SL250107 | D25: EUREAUSOURCES | E25: 31.03.2025 | F25: 1271.2 | G25: 0 | H25: =F25+G25 -> 1271.2 | I25: Payé le 31.03.2025
A26: 18.02.2025 | B26: 903064 | C26: SL250202 | D26: ARFP | E26: 15.04.2025 | F26: 4325.25 | G26: 135 | H26: =F26+G26 -> 4460.25 | I26: Payé le 14.04.2025
A27: 19.02.2025 | B27: 25000639 | C27: Achats matières Janvier | D27: Eureausources Marolles | E27: 31.03.2025 | F27: 545.6 | G27: 0 | H27: =F27+G27 -> 545.6 | I27: Payé le 31.03.2025
A28: 20.02.2025 | B28: FA009146 | C28: JPC250202 | D28: REVIPLAST | E28: 06.04.2025 | F28: 4124.2 | G28: =F28*0.2 -> 824.84 | H28: =F28+G28 -> 4949.04 | I28: Payé le 08.04.2025
A29: 24.02.2025 | B29: 903067 | C29: SL250212 | D29: ARFP | E29: 15.04.2024 | F29: 2364.28 | G29: 0 | H29: =F29+G29 -> 2364.28 | I29: Payé le 14.04.2025- avoir nº903072 Déduit
A30: 24.02.2025 | B30: FV000412 | C30: JPC250103 | D30: REVIPLAST | E30: IMMEDIAT | F30: -2345.33 | G30: =F30*0.2 -> -469.066 | H30: =F30+G30 -> -2814.396 | I30: Déduit de la facture FA009035
A31: 25.02.2025 | B31: 903072 | C31: SL250212 | D31: ARFP | E31: IMMEDIAT | F31: -16.28 | G31: 0 | H31: =F31+G31 -> -16.28 | I31: Déduit le 14.04.2025 s/fac 903067
A32: 25.02.2025 | B32: 903073 | C32: BAF poubelles | D32: ARFP | E32: 30.04.2025 | F32: 2034.2 | G32: 6.84 | H32: =F32+G32 -> 2041.04 | I32: Payé le 05.05.2025
A33: 26.02.2025 | B33: CIN0139738 | C33: JPC250204 | D33: FLEXICO | E33: 28.03.2025 | F33: 21091 | G33: =F33*0.2 -> 4218.2 | H33: =F33+G33 -> 25309.2 | I33: Payé le 31.03.2025
A34: 26.02.2025 | B34: FA114246 | C34: Achats matières Janvier 25 | D34: DEFEAUS Hermes | E34: 31.03.2025 | F34: 16 | G34: =F34*0.2 -> 3.2 | H34: =F34+G34 -> 19.2 | I34: Payé le 31.03.2025
A35: 28.02.2025 | B35: FV000414 | C35: JPC250104 | D35: REVIPLAST | E35: IMMEDIAT | F35: -10601.08 | G35: =F35*0.2 -> -2120.216 | H35: =F35+G35 -> -12721.296 | I35: Annule la facture F009037
A36: 28.02.2025 | B36: FA009181 | C36: JPC250104 | D36: REVIPLAST | E36: 14.04.2025 | F36: 10220.63 | G36: =F36*0.2 -> 2044.126 | H36: =F36+G36 -> 12264.756 | I36: Payé le 14.03.2025
A37: 28.02.2025 | B37: EE250474 | C37: SL250206 & SL250207 | D37: EDOVA | E37: 28.03.2025 | F37: 12749.84 | G37: 0 | H37: =F37+G37 -> 12749.84 | I37: Payé le 31.03.2025
A38: 28.02.2025 | B38: FA009169 | C38: JPC250302 | D38: REVIPLAST | E38: 14.04.2025 | F38: 3089.75 | G38: =F38*0.2 -> 617.95 | H38: =F38+G38 -> 3707.7 | I38: Payé le 14.03.2025
A39: 28.02.2025 | B39: FA009168 | C39: JPC250207 | D39: REVIPLAST | E39: 14.04.2025 | F39: 4064.6 | G39: =F39*0.2 -> 812.92 | H39: =F39+G39 -> 4877.52 | I39: Payé le 14.03.2025
A40: 28.02.2025 | B40: 02250197 | C40: JPC250209 | D40: FER | E40: 28.03.2025 | F40: 4291 | G40: 0 | H40: =F40+G40 -> 4291 | I40: Payé le 31.03.2025
A41: TOTAL | F41: =SUM(F23:F40) -> 61776.71 | G41: =SUM(G23:G40) -> 6984.164 | H41: =SUM(H23:H40) -> 68760.874
A42: MARS
...

Sheet TRANSPORTEURS
A1: TRANSPORTEURS
A3: Date doc. | B3: N° Facture | C3: TRANSPORTEURS | D3: Échéances | E3: Montant HT | F3: TVA | G3: TTC | H3: Commentaires
A5: JANVIER
A6: 13.01.2025 | B6: 2322500004 | C6: PERRENOT TCV | D6: 12.02.2025 | E6: 650 | F6: =E6*20% -> 130 | G6: =SUM(E6:F6) -> 780 | H6: Payé le 10.02.2025 pour échéance-JPC250101
A7: 20.01.2025 | B7: 2322500055 | C7: TCV PERRENOT | D7: 19.02.2025 | E7: 735 | F7: =E7*20% -> 147 | G7: =SUM(E7:F7) -> 882 | H7: Payé le 19.02.2025-JPC250102
A8: 20.01.2025 | B8: 2025-0266 | C8: LAMBERT TVSL | D8: 19.02.2025 | E8: 812 | F8: 0 | G8: 812 | H8: Payé le 19.02.2025-SL250107
A9: 27.01.2025 | B9: 2322500141 | C9: TCV PERRENOT | D9: 26.02.2025 | E9: 1115 | F9: =E9*20% -> 223 | G9: =SUM(E9:F9) -> 1338 | H9: Payé le 24.02.20215 pour échéance-JPC250105, SL250108
A10: 29.01.2025 | B10: 250100077 | C10: EUROFRANCE | D10: 28.02.2025 | E10: 1200 | F10: =E10*20% -> 240 | G10: =SUM(E10:F10) -> 1440 | H10: Payé le 24.02.20215 pour échéance-JPC250104
A11: 30.01.2025 | B11: 250.332 Hoja | C11: DELTA DIVISION | D11: 28.02.2025 | E11: 1250 | F11: 0 | G11: 1250 | H11: Payé le 24.02.20215 pour échéance-SL250112
A12: 31.01.2025 | B12: 2322500178 | C12: TCV PERRENOT | D12: 02.03.2025 | E12: 650 | F12: =E12*20% -> 130 | G12: =SUM(E12:F12) -> 780 | H12: Payé le 03.03.2025-JPC250106
A13: 31.01.2025 | B13: 250100218 | C13: FERTRANS | D13: 02.03.2025 | E13: 5414 | F13: =E13*20% -> 1082.8 | G13: =SUM(E13:F13) -> 6496.8 | H13: Payé le 03.03.2025-SL250101, Echantillons PE Roto Reviplast/Neveux, SL240212, SL250104, SL250114, Envoi BB monteux, SL250116, SL250109,JPC250103, SL250115, SL250117
A14: 31.01.2025 | B14: 903052 | C14: ARFP | D14: 15.03.2025 | E14: 275 | F14: =E14*20% -> 55 | G14: =SUM(E14:F14) -> 330 | H14: Payé le 24.03.2025-Facturation de 50 big-bags pour Eureausources Monteux
A15: 31.01.2025 | B15: B2501300 | C15: LMIF | D15: 28.02.2025 | E15: 564.58 | F15: =E15*20% -> 112.916 | G15: =SUM(E15:F15) -> 677.496 | H15: Payé le 24.02.20215 pour échéance-Echange Papi du 09.01.2025 + PC Bonbonnes Eureausources du 22.01.2025
A16: 31.01.2025 | B16: B2501301 | C16: LMIF | D16: 28.02.2025 | E16: 978 | F16: =E16*20% -> 195.6 | G16: =SUM(E16:F16) -> 1173.6 | H16: Payé le 24.02.20215 pour échéance-SL250103, SL250106, SL250110,SL250113
A17: 31.01.2025 | B17: P/BBOR500263 | C17: BUTIN SEDIC | D17: 01.04.2025 | E17: 2935.54 | F17: =E17*20% -> 587.108 | G17: =SUM(E17:F17) -> 3522.648 | H17: Payé le 08.04.2025- Prestations Janvier Eureausources Marolles
A18: 31.01.2025 | B18: P/BBOR500130 | C18: BUTIN SEDIC | D18: 01.04.2025 | E18: 1240.4 | F18: =E18*20% -> 248.08 | G18: =SUM(E18:F18) -> 1488.48 | H18: Payé le 31.03.2025-Prestations Février DEFEAUS - AVOIR N° P/BBOR500261 déduit le 08.04
A19: 31.01.2025 | B19: P/BBOR500261 | C19: BUTIN SEDIC | D19: 01.04.2025 | E19: -150.92 | F19: =E19*20% -> -30.184 | G19: =SUM(E19:F19) -> -181.104 | H19: Avoir DÉDUIT le 08.04 sur facture n° P/BBOR500130 -
A20: 31.01.2025 | B20: B2501347 | C20: LMIF | D20: 28.02.2025 | E20: 230.87 | F20: 46.17 | G20: 277.04 | H20: Payé le 24.02.20215 pour échéance-Enlèvement bonbonnes PC eureausource du 29.01
A21: TOTAL | E21: =SUM(E6:E20) -> 17899.47 | F21: =SUM(F6:F20) -> 3167.49 | G21: =SUM(G6:G20) -> 21066.96
A22: FEVRIER
A23: 10.02.2025 | B23: 2322500282 | C23: PERRENOT TCV | D23: 12.03.2025 | E23: 735 | F23: =E23*20% -> 147 | G23: =SUM(E23:F23) -> 882 | H23: Payé le 10.03.2025 pour échéance-JPC250201
A24: 18.02.2025 | B24: 2322500342 | C24: PERRENOT TCV | D24: 20.03.2025 | E24: 380 | F24: 76 | G24: =E24+F24 -> 456 | H24: Payé le 24.03.2025-SL250209
A25: 21.02.2025 | B25: 250.569 Hoja | C25: DELTA DIVISION | D25: 21.03.2025 | E25: 1250 | F25: 0 | G25: =E25+F25 -> 1250 | H25: Payé le 24.03.2025-SL250212
A26: 24.02.2025 | B26: 2322500362 | C26: PERRENOT TCV | D26: 26.03.2025 | E26: 735 | F26: 147 | G26: =E26+F26 -> 882 | H26: Payé le 24.03.2025-JPC250202
A27: 28.02.2025 | B27: 2322500464 | C27: TCV | D27: 30.03.2025 | E27: 2065 | F27: =E27*0.2 -> 413 | G27: =E27+F27 -> 2478 | H27: Payé le 31.03.2025-JPC250207 & JPC250302
A28: 28.02.2025 | B28: 250200540 | C28: FERTRANS | D28: 30.03.2025 | E28: 4230 | F28: 846 | G28: 5076 | H28: Payé le 31.03.2025-SL250204,06,03,02,07 & JPC250203
A29: 28.02.2025 | B29: P/BBOR500779 | C29: BUTIN SEDIC | D29: 29.04.2025 | E29: 3395.44 | F29: 679.09 | G29: =E29+F29 -> 4074.53 | H29: Payé le 28.04.2025-Déductoin faite de 3522,65 €, suite double règlement-Prestations Février EUREAUSOURCE MAROLLES
A30: 28.02.2025 | B30: P/BBOR500778 | C30: BUTIN SEDIC | D30: 29.04.2025 | E30: 766.3 | F30: 153.26 | G30: =E30+F30 -> 919.56 | H30: Payé le 28.04.2025-Prestation Février DEFEAUS HERMES
A31: 28.02.2025 | B31: 20250226 | C31: PILLON | D31: 30.03.2025 | E31: 330 | F31: =E31*0.2 -> 66 | G31: =E31+F31 -> 396 | H31: Payé le 31.03.2025-Transport Agglo Beauvais-ARFP du 06.02.2025
A32: 28.02.2025 | B32: B2502251 | C32: LMIF | D32: 30.03.2025 | E32: 1100 | F32: =E32*0.2 -> 220 | G32: =E32+F32 -> 1320 | H32: Payé le 31.03.2025-SL250205,10,13 & JPC250206,05
A33: 28.02.2025 | B33: B2502250 | C33: LMIF | D33: 30.03.2025 | E33: 332.95 | F33: =E33*0.2 -> 66.59 | G33: =E33+F33 -> 399.54 | H33: Payé le 31.03.2025-Échange PAPI du 05.02.2025
A34: 28.02.2025 | B34: 2025-02-00727 | C34: LAMBERT | D34: 31.03.2025 | E34: 400 | F34: 0 | G34: =E34+F34 -> 400 | H34: Payé le 22.04.2025-SL250214
A35: TOTAL | E35: =SUM(E23:E34) -> 15719.69 | F35: =SUM(F23:F34) -> 2813.94 | G35: =SUM(G23:G34) -> 18533.63
A36: MARS
A37: 10.03.2025 | B37: 2322500526 | C37: TCV | D37: 09.04.2025 | E37: 1765 | F37: 353 | G37: =E37+F37 -> 2118 | H37: Payé le 08.04.2025-JPC250301, 250305 & 250307
A38: 10.03.2025 | B38: 2025-03-0049 | C38: LAMBERT | D38: 24.04.2025 | E38: 400 | F38: 0 | G38: =E38+F38 -> 400 | H38: Payé le 22.04.2025-JPC250306
A39: 17.03.2025 | B39: 2322500563 | C39: TCV | D39: 16.04.2025 | E39: 3095 | F39: 619 | G39: 3714 | H39: Payé le 14.04.2025-JPC250304,14,10,13 et JPC250311
A40: 24.03.2025 | B40: 2322500614 | C40: TCV | D40: 23.04.2025 | E40: 735 | F40: 147 | G40: =E40+F40 -> 882 | H40: Payé le 22.04.2025-JPC250320
A41: 31.03.2025 | B41: 2322500640 | C41: TCV | D41: 30.04.2025 | E41: 650 | F41: =E41*0.2 -> 130 | G41: =E41+F41 -> 780 | H41: Payé le 05.05.2025-JPC250314
A42: 31.03.2025 | B42: 250300791 | C42: FERTRANS | D42: 30.04.2025 | E42: 1957 | F42: =E42*0.2 -> 391.4 | G42: =E42+F42 -> 2348.4 | H42: Payé le 05.05.2025-JPC250309, 250308, 250318, 250312
...

Sheet Frais GÉ
A1: FRAIS GÉNÉRAUX
A3: Date doc. | B3: N° Facture | C3: TRANSPORTS/PRESTAIRES | D3: Échéances | E3: Montant HT | F3: TVA | G3: TTC | H3: Réglé | I3: Commentaires
A5: JANVIER
A6: 01.01.2025 | B6: 202501-01600 | C6: AHTLON MOBIFLEET | D6: 01.01.2025 | E6: 845.59 | F6: 169.12 | G6: =SUM(E6:F6) -> 1014.71 | H6: X | I6: Prélèvement
A7: 07.01.2025 | B7: 27022 | C7: FCN ACES | D7: 31/01 - 28/02 | E7: 1059.99 | F7: =E7*20% -> 211.998 | G7: =SUM(E7:F7) -> 1271.988 | H7: X | I7: Prélèvements selon les échéances ( 1x 636 Euros et 1 x 635,99 Euros)
A8: 14.01.2025 | B8: 25004033 | C8: SANTÉ au TRAVAIL 72 | D8: 15.02.2025 | E8: 254 | F8: =E8*0.2 -> 50.8 | G8: =E8+F8 -> 304.8 | H8: X | I8: Payé le 14.01.2025
A9: 28.01.2025 | C9: NDF JPC - Janvier 2025 | D9: Imméditat | E9: 169.44 | F9: 28.53 | G9: =E9+F9 -> 197.97 | H9: X | I9: Payé le 28.01.2025
A10: 31.01.2025 | C10: NDF Séverine - Janvier 2025 | D10: Immédiat | E10: 403.37 | F10: 80.68 | G10: =E10+F10 -> 484.05 | H10: X | I10: Payé le 04.02.2025
A11: 31.01.2025 | B11: 10654774 | C11: FEDEX EXPRESS | D11: 02.03.2025 | E11: 65.99 | F11: 13.2 | G11: =SUM(E11:F11) -> 79.19 | H11: X | I11: Echantillons (PP, PS) RAVAGO du 07.01.2025 - Prélèvement au 02.03.2025
A12: 31.01.2025 | B12: 202501 3 58262 | C12: FEDEX EXPRESS | D12: 15.02.2025 | E12: 4 | F12: =E12*20% -> 0.8 | G12: =SUM(E12:F12) -> 4.8 | H12: X | I12: Frais pour facture non dématérialisée
A13: 31.01.2025 | B13: 202501 31 1054243 | C13: FEDEX EXPRESS | D13: 15.02.2025 | E13: 58.61 | F13: 11.72 | G13: =SUM(E13:F13) -> 70.33 | H13: X | I13: Prélèvement au 15.O2 // Echantillons ARFP -> NEVEUX (Roto)
A15: TOTAL | E15: =SUM(E6:E14) -> 2860.99 | F15: =SUM(F6:F14) -> 566.848 | G15: =SUM(G6:G14) -> 3427.838
A16: FEVRIER
A17: 01.02.2025 | B17: 20250201458 | C17: MOBIFLEET | D17: 01.02.2025 | E17: 845,59 | F17: 169,12 | G17: 1014.71 | H17: X | I17: Prelevé
A18: 28.02.2025 | C18: NDF JPC Février 2025 | D18: Immediat | E18: 470.74 | F18: 21.71 | G18: 492.45 | H18: X | I18: Payé le 24.02.2025
A19: 28.02.2025 | B19: 27777 | C19: FCN ACES | D19: Pélèvement | E19: 1061.99 | F19: 212.4 | G19: =E19+F19 -> 1274.39 | H19: X | I19: Provision nº2/6
A21: TOTAL | E21: =SUM(E17:E20) -> 1532.73 | F21: =SUM(F17:F20) -> 234.11 | G21: =SUM(G17:G20) -> 2781.55
A22: MARS
A23: 01.03.2025 | B23: 202503-01420 | C23: MOBIFLEET | D23: 01.03.2025 | E23: 845.59 | F23: 169.12 | G23: =E23+F23 -> 1014.71 | H23: X | I23: Prélevé le 01.03.2025
A24: 31.03.2025 | C24: NDF JPC Mars 2025 | D24: IMMEDIAT | E24: 129.39 | F24: 19.69 | G24: 149.08 | H24: X | I24: Payé le 01.04.2025
A25: 31.03.2025 | C25: NDF Sèverine | D25: IMMEDIAT | E25: 274.32 | F25: 47.83 | G25: =E25+F25 -> 322.15 | H25: X | I25: Payé le 15.04.2025
A27: TOTAL | E27: =SUM(E23:E26) -> 1249.3 | F27: =SUM(F23:F26) -> 236.64 | G27: =SUM(G23:G26) -> 1485.94
A28: AVRIL
A29: 01.04.2025 | B29: 202503-01380 | C29: MOBIFLEET | D29: 01.04.2025 | E29: 845.59 | F29: 169.12 | G29: =E29+F29 -> 1014.71 | H29: X | I29: Prélevé le 01.04.2025
A30: 08.04.2025 | B30: FAC25047348 | C30: MOULIN NEUF | D30: 08.04.2025 | E30: 300 | F30: 60 | G30: =E30+F30 -> 360 | H30: X | I30: Payé le 08.04.2025
A31: 30.04.2025 | C31: NDF JPC Avril 2025 | D31: Immédiat | E31: 357.35 | F31: 53.38 | G31: 410.73 | H31: X | I31: Payé le 30.04.2025
A33: TOTAL | E33: =SUM(E29:E32) -> 1502.94 | F33: =SUM(F29:F32) -> 282.5 | G33: =SUM(G29:G32) -> 1785.44
A34: MAI
A35: 01.05.2025 | B35: 202505-0329 | C35: MOBIFLEET | D35: IMMEDIAT | E35: 892.11 | F35: 178.42 | G35: =E35+F35 -> 1070.53 | H35: X | I35: Voitures Sté Mai
A36: 01.05.2025 | B36: 202505-04450 | C36: MOBIFLEET | D36: IMMEDIAT | E36: 2320.48 | F36: 464.1 | G36: =E36+F36 -> 2784.58 | H36: X | I36: Prélevé - réajustement Km véhicule
A37: 12.05.2025 | B37: 143000142 | C37: FCN-ACES | D37: 31.05 &31.06 | E37: 1310 | F37: 262 | G37: =E37+F37 -> 1572 | H37: X | I37: Prélevé suivant les échéances, soit 786 € X2
A38: 31.05.2025 | C38: NDF Séverine Mai2025 | D38: IMMEDIAT | E38: 45 | F38: 9 | G38: =E38+F38 -> 54 | H38: X | I38: Payé le 02.06.2025
A39: 31.05.2025 | C39: NDF JPC Mai 2025 | D39: IMMEDIAT | E39: 533.18 | F39: 37.4 | G39: =E39+F39 -> 570.58 | H39: X | I39: Payé le 01.06.2025
A41: TOTAL | E41: =SUM(E35:E40) -> 5100.77 | F41: =SUM(F35:F40) -> 950.92 | G41: =SUM(G35:G40) -> 6051.69
A42: JUIIN
A43: 01.06.2025 | B43: 202506-01277 | C43: MOBIFLEET | D43: IMMEDIAT | E43: 892.11 | F43: 178.42 | G43: =E43+F43 -> 1070.53 | H43: X | I43: Prélevé le 01.06.2025
A44: 04.06.2025 | B44: OPCO 2025 | C44: AKTO | D44: IMMEDIAT | E44: 150 | F44: 0 | G44: 150 | H44: X | I44: Payé par prélèvement
A45: 10.06.2025 | B45: 1383 | C45: DEGENEVE | D45: IMMEDIAT | E45: 90 | F45: 18 | G45: =E45+F45 -> 108 | H45: X | I45: Payé le 10.06.2025
A46: 20.06.2025 | B46: FA00008506 | C46: CARPAINT | D46: IMMEDIAT | E46: 1305 | F46: =E46*0.2 -> 261 | G46: =E46+F46 -> 1566 | H46: X | I46: Payé le 24.06.2025
A48: 30.06.2025 | C48: NDF JPC JUIN 2025 | D48: IMMEDIAT | E48: 559.95 | F48: 88.3 | G48: 648.25 | H48: X | I48: Payé le 30.06.2025
...

Sheet SYNTHÈSE
A1: SYNTHÈSE C.A & MARGE C0 | K1: SYNTHÈSE ACHATS
C4: CA 2024 | D4: CA 2025 | E4: % Évolution du CA | G4: Marge CO 2024 | H4: Marge CO 2025 | I4: % Évol M.CO | M4: Fournisseurs | N4: FNP | O4: Transporteurs | P4: FNP
A5: JANVIER | C5: 109693.92 | D5: =CLIENTS!F30 -> 110291.14 | E5: =(D5-C5)/C5 -> 0.0054444221 | G5: ='[1]JANVIER '!L52 -> 12665.555 | H5: =D5-(M5+N5+O5+P5) -> 20858.87 | I5: =(H5-G5)/G5 -> 0.64689743 | K5: JANVIER | M5: =FOURNISSEURS!F21 -> 65765.75 | N5: 5767.05 | O5: =TRANSPORTEURS!E21 -> 17899.47 | P5: 0
A6: FEVRIER | C6: 132158.83 | D6: =CLIENTS!F52 -> 89055.26 | E6: =(D6-C6)/C6 -> -0.32614975 | G6: =[1]FEVRIER!L76 -> 17379.702 | H6: =D6-(M6+N6+O6+P6) -> 10620.86 | I6: =(H6-G6)/G6 -> -0.38889286 | K6: FEVRIER | M6: =FOURNISSEURS!F41 -> 61776.71 | N6: 498 | O6: =TRANSPORTEURS!E35 -> 15719.69 | P6: 440
A7: MARS | C7: 60865.15 | D7: =CLIENTS!F82 -> 103829.38 | E7: =(D7-C7)/C7 -> 0.70589212 | G7: =[1]MARS!L52 -> 8021.3 | H7: =D7-(M7+N7+O7+P7) -> 35684.18 | I7: =(H7-G7)/G7 -> 3.4486779 | K7: MARS | M7: =FOURNISSEURS!F56 -> 53164.56 | N7: 1232.1 | O7: =TRANSPORTEURS!E48 -> 13748.54 | P7: 0
A8: AVRIL | C8: 132803.08 | D8: =CLIENTS!F105 -> 113575.6 | E8: =(D8-C8)/C8 -> -0.14478188 | G8: =[1]AVRIL!L70 -> 17844.567 | H8: =D8-(M8+N8+O8+P8) -> 12573.22 | I8: =(H8-G8)/G8 -> -0.29540347 | K8: AVRIL | M8: =FOURNISSEURS!F79 -> 85985.56 | N8: =TRANSPORTEURS!O47 -> 0 | O8: =TRANSPORTEURS!E63 -> 15016.82 | P8: 0
A9: MAI | C9: 48894 | D9: =CLIENTS!F120 -> 51494.24 | E9: =(D9-C9)/C9 -> 0.053181167 | G9: =[1]MAI!L32 -> 11074.855 | H9: =D9-(M9+N9+O9+P9) -> 3052.87 | I9: =(H9-G9)/G9 -> -0.72434221 | K9: MAI | M9: =FOURNISSEURS!F91 -> 42623.37 | N9: =TRANSPORTEURS!O53 -> 0 | O9: =TRANSPORTEURS!E69 -> 5818 | P9: 0
A10: JUIN | C10: 114652.67 | D10: =CLIENTS!F139 -> 86284.2 | E10: =(D10-C10)/C10 -> -0.24742965 | G10: =[1]JUIN!L84 -> 18808.763 | H10: =D10-(M10+N10+O10+P10) -> 17677.851 | I10: =(H10-G10)/G10 -> -0.060126867 | K10: JUIN | M10: =FOURNISSEURS!F104 -> 49723.13 | N10: =TRANSPORTEURS!O66 -> 0 | O10: =TRANSPORTEURS!E82 -> 18883.219 | P10: 0
A11: JUILLET | C11: 71363.67 | D11: =CLIENTS!F169 -> 93564.86 | E11: =(D11-C11)/C11 -> 0.31109933 | G11: =[1]JUILLET!L61 -> 12535.723 | H11: =D11-(M11+N11+O11+P11) -> 32438.82 | I11: =(H11-G11)/G11 -> 1.5877103 | K11: JUILLET | M11: =FOURNISSEURS!F104 -> 49723.13 | N11: 0 | O11: =TRANSPORTEURS!E92 -> 11402.91 | P11: 0
A12: AOÛT | C12: 57732.67 | D12: =CLIENTS!F185 -> 64160.43 | E12: =(D12-C12)/C12 -> 0.11133661 | G12: =[1]AOÛT!L48 -> 9064.255 | H12: =D12-(M12+N12+O12+P12) -> 5511.155 | I12: =(H12-G12)/G12 -> -0.3919903 | K12: AOÛT | M12: =FOURNISSEURS!F137 -> 52501.275 | N12: 0 | O12: =TRANSPORTEURS!E97 -> 6148 | P12: 0
A13: SEPTEMBRE | C13: 97628.78 | D13: =CLIENTS!F213 -> 118361.54 | E13: =(D13-C13)/C13 -> 0.2123632 | G13: ='[1]SEPTEMBRE '!L62 -> 18934.72 | H13: =D13-(M13+N13+O13+P13) -> 19847.67 | I13: =(H13-G13)/G13 -> 0.048215659 | K13: SEPTEMBRE | M13: =FOURNISSEURS!F160 -> 84466.87 | N13: 0 | O13: =TRANSPORTEURS!E106 -> 14047 | P13: 0
A14: OCTOBRE | C14: 95476.76 | D14: =CLIENTS!F234 -> 70110.86 | E14: =(D14-C14)/C14 -> -0.26567617 | G14: =[1]OCTOBRE!L71 -> 18004.515 | H14: =D14-(M14+N14+O14+P14) -> 15977.23 | I14: =(H14-G14)/G14 -> -0.1125987 | K14: OCTOBRE | M14: =FOURNISSEURS!F175 -> 45692.63 | N14: 0 | O14: =TRANSPORTEURS!E111 -> 8441 | P14: 0
A15: NOVEMBRE | C15: 102090.3 | D15: =[2]Avril!M74 -> 0 | E15: =(D15-C15)/C15 -> -1 | G15: =[1]NOVEMBRE!L48 -> 11760.319 | H15: =[2]Avril!L74 -> 0 | I15: =(H15-G15)/G15 -> -1 | K15: NOVEMBRE | M15: 0 | N15: 0 | P15: 0
A16: DÉCEMBRE | C16: 30387.64 | D16: =[2]Avril!M75 -> 0 | E16: {=E5:F15/12} -> 0.00045370184 | F16: 0 | G16: =[1]DÉCEMBRE!$L$34 -> 5565.04 | H16: =[2]Avril!L75 -> 0 | I16: =(H16-G16)/G16 -> -1 | K16: DÉCEMBRE | M16: 0 | N16: 0 | P16: 0
A17: TOTAL | C17: =SUM(C5:C16) -> 1053747.5 | D17: =SUM(D5:D16) -> 900727.51 | E17: -0.027179146 | F17: 0 | G17: =SUM(G5:G16) -> 161659.31 | H17: =SUM(H5:H16) -> 174242.73 | I17: {=I5:I16/12} -> 0.053908119 | K17: TOTAL | M17: =SUM(M5:M16) -> 591422.98 | N17: =SUM(N5:N16) -> 7497.15 | O17: =SUM(O5:O16) -> 127124.65
E18: 0.058824344 | F18: 0 | I18: -0.032407738
E19: -0.012065157 | F19: 0 | I19: 0.28738982
E20: 0.004431764 | F20: 0 | I20: -0.024616956
E21: -0.020619137 | F21: 0 | I21: -0.060361851
E22: 0.025924944 | F22: 0 | I22: -0.0050105723
E23: 0.0092780512 | F23: 0 | I23: 0.13230919
E24: 0.017696933 | F24: 0 | I24: -0.032665858
E25: -0.022139681 | F25: 0 | I25: 0.0040179716
E26: -0.083333333 | F26: 0 | I26: -0.0093832251
I27: -0.083333333
I28: -0.083333333

Sheet AUTRE
A1: TRANSPORTEURS - DIVERS
A4: Date doc. | B4: N° Facture | C4: TRANSPORTS/PRESTAIRES | D4: Échéances | E4: Montant HT | F4: TVA | G4: TTC | H4: Réglé | I4: Commentaires
A6: JANVIER
A7: 01.01.2025 | B7: 202501-01600 | C7: AHTLON MOBIFLEET | D7: 01.01.2025 | E7: 845.59 | F7: 169.12 | G7: =SUM(E7:F7) -> 1014.71 | H7: X | I7: Prélèvement
A8: 07.01.2025 | B8: 27022 | C8: FCN ACES | D8: 31/01 - 28/02 | E8: 1059.99 | F8: =E8*20% -> 211.998 | G8: =SUM(E8:F8) -> 1271.988 | H8: X | I8: Prélèvements selon les échéances ( 1x 636 Euros et 1 x 635,99 Euros)
A9: 13.01.2025 | B9: 2322500004 | C9: PERRENOT TCV | D9: 12.02.2025 | E9: 650 | F9: =E9*20% -> 130 | G9: =SUM(E9:F9) -> 780 | H9: X | I9: Payé le 10.02.2025 pour échéance-JPC250101
A10: 14.01.2025 | B10: 25004033 | C10: SANTÉ au TRAVAIL 72 | D10: 15.02.2025 | E10: 254 | F10: =E10*0.2 -> 50.8 | G10: =E10+F10 -> 304.8 | H10: X | I10: Payé le 14.01.2025
A11: 20.01.2025 | B11: 2322500055 | C11: TCV PERRENOT | D11: 19.02.2025 | E11: 735 | F11: =E11*20% -> 147 | G11: =SUM(E11:F11) -> 882 | H11: X | I11: Payé le 19.02.2025-JPC250102
A12: 20.01.2025 | B12: 2025-0266 | C12: LAMBERT TVSL | D12: 19.02.2025 | E12: 812 | F12: 0 | G12: 812 | H12: X | I12: Payé le 19.02.2025-SL250107
A13: 27.01.2025 | B13: 2322500141 | C13: TCV PERRENOT | D13: 26.02.2025 | E13: 1115 | F13: =E13*20% -> 223 | G13: =SUM(E13:F13) -> 1338 | H13: X | I13: Payé le 24.02.20215 pour échéance-JPC250105, SL250108
A14: 28.01.2025 | C14: NDF JPC - Janvier 2025 | D14: Imméditat | E14: 169.44 | F14: 28.53 | G14: =E14+F14 -> 197.97 | H14: X | I14: Payé le 28.01.2025
A15: 29.01.2025 | B15: 250100077 | C15: EUROFRANCE | D15: 28.02.2025 | E15: 1200 | F15: =E15*20% -> 240 | G15: =SUM(E15:F15) -> 1440 | H15: X | I15: Payé le 24.02.20215 pour échéance-JPC250104
A16: 30.01.2025 | B16: 250.332 Hoja | C16: DELTA DIVISION | D16: 28.02.2025 | E16: 1250 | F16: 0 | G16: 1250 | H16: X | I16: Payé le 24.02.20215 pour échéance-SL250112
A17: 31.01.2025 | C17: NDF Séverine - Janvier 2025 | D17: Immédiat | E17: 403.37 | F17: 80.68 | G17: =E17+F17 -> 484.05 | H17: X | I17: Payé le 04.02.2025
A18: 31.01.2025 | B18: 2322500178 | C18: TCV PERRENOT | D18: 02.03.2025 | E18: 650 | F18: =E18*20% -> 130 | G18: =SUM(E18:F18) -> 780 | H18: X | I18: Payé le 03.03.2025-JPC250106
A19: 31.01.2025 | B19: 250100218 | C19: FERTRANS | D19: 02.03.2025 | E19: 5414 | F19: =E19*20% -> 1082.8 | G19: =SUM(E19:F19) -> 6496.8 | H19: X | I19: Payé le 03.03.2025-SL250101, Echantillons PE Roto Reviplast/Neveux, SL240212, SL250104, SL250114, Envoi BB monteux, SL250116, SL250109,JPC250103, SL250115, SL250117
A20: 31.01.2025 | B20: 903052 | C20: ARFP | D20: 15.03.2025 | E20: 275 | F20: =E20*20% -> 55 | G20: =SUM(E20:F20) -> 330 | H20: X | I20: Payé le 24.03.2025-Facturation de 50 big-bags pour Eureausources Monteux
A21: 31.01.2025 | B21: 10654774 | C21: FEDEX EXPRESS | D21: 02.03.2025 | E21: 65.99 | F21: 13.2 | G21: =SUM(E21:F21) -> 79.19 | H21: X | I21: Echantillons (PP, PS) RAVAGO du 07.01.2025 - Prélèvement au 02.03.2025
A22: 31.01.2025 | B22: 202501 3 58262 | C22: FEDEX EXPRESS | D22: 15.02.2025 | E22: 4 | F22: =E22*20% -> 0.8 | G22: =SUM(E22:F22) -> 4.8 | H22: X | I22: Frais pour facture non dématérialisée
A23: 31.01.2025 | B23: 202501 31 1054243 | C23: FEDEX EXPRESS | D23: 15.02.2025 | E23: 58.61 | F23: 11.72 | G23: =SUM(E23:F23) -> 70.33 | H23: X | I23: Prélèvement au 15.O2 // Echantillons ARFP -> NEVEUX (Roto)
A24: 31.01.2025 | B24: B2501300 | C24: LMIF | D24: 28.02.2025 | E24: 564.58 | F24: =E24*20% -> 112.916 | G24: =SUM(E24:F24) -> 677.496 | H24: X | I24: Payé le 24.02.20215 pour échéance-Echange Papi du 09.01.2025 + PC Bonbonnes Eureausources du 22.01.2025
A25: 31.01.2025 | B25: B2501301 | C25: LMIF | D25: 28.02.2025 | E25: 978 | F25: =E25*20% -> 195.6 | G25: =SUM(E25:F25) -> 1173.6 | H25: X | I25: Payé le 24.02.20215 pour échéance-SL250103, SL250106, SL250110,SL250113
A26: 31.01.2025 | B26: P/BBOR500263 | C26: BUTIN SEDIC | D26: 01.04.2025 | E26: 2935.54 | F26: =E26*20% -> 587.108 | G26: =SUM(E26:F26) -> 3522.648 | H26: X | I26: Payé le 08.04.2025- Prestations Janvier Eureausources Marolles
A27: 31.01.2025 | B27: P/BBOR500130 | C27: BUTIN SEDIC | D27: 01.04.2025 | E27: 1240.4 | F27: =E27*20% -> 248.08 | G27: =SUM(E27:F27) -> 1488.48 | H27: X | I27: Payé le 31.03.2025-Prestations Février DEFEAUS - AVOIR N° P/BBOR500261 déduit le 08.04
A28: 31.01.2025 | B28: P/BBOR500261 | C28: BUTIN SEDIC | D28: 01.04.2025 | E28: -150.92 | F28: =E28*20% -> -30.184 | G28: =SUM(E28:F28) -> -181.104 | H28: X | I28: Avoir DÉDUIT le 08.04 sur facture n° P/BBOR500130 -
A29: 31.01.2025 | B29: B2501347 | C29: LMIF | D29: 28.02.2025 | E29: 230.87 | F29: 46.17 | G29: 277.04 | H29: X | I29: Payé le 24.02.20215 pour échéance-Enlèvement bonbonnes PC eureausource du 29.01
C31: TOTAL | E31: =SUM(E7:E30) -> 20760.46 | F31: =SUM(F7:F30) -> 3734.338 | G31: =SUM(G7:G30) -> 24494.798
A32: FEVRIER
A33: 01.02.2025 | B33: 20250201458 | C33: MOBIFLEET | D33: 01.02.2025 | E33: 845,59 | F33: 169,12 | G33: 1014.71 | H33: X | I33: Prelevé
A34: 10.02.2025 | B34: 2322500282 | C34: PERRENOT TCV | D34: 12.03.2025 | E34: 735 | F34: =E34*20% -> 147 | G34: =SUM(E34:F34) -> 882 | H34: X | I34: Payé le 10.03.2025 pour échéance-JPC250201
A35: 18.02.2025 | B35: 2322500342 | C35: PERRENOT TCV | D35: 20.03.2025 | E35: 380 | F35: 76 | G35: =E35+F35 -> 456 | H35: X | I35: Payé le 24.03.2025-SL250209
A36: 21.02.2025 | B36: 250.569 Hoja | C36: DELTA DIVISION | D36: 21.03.2025 | E36: 1250 | F36: 0 | G36: =E36+F36 -> 1250 | H36: X | I36: Payé le 24.03.2025-SL250212
A37: 24.02.2025 | B37: 2322500362 | C37: PERRENOT TCV | D37: 26.03.2025 | E37: 735 | F37: 147 | G37: =E37+F37 -> 882 | H37: X | I37: Payé le 24.03.2025-JPC250202
A38: 28.02.2025 | C38: NDF JPC Février 2025 | D38: Immediat | E38: 470.74 | F38: 21.71 | G38: 492.45 | H38: X | I38: Payé le 24.02.2025
A39: 28.02.2025 | B39: 2322500464 | C39: TCV | D39: 30.03.2025 | E39: 2065 | F39: =E39*0.2 -> 413 | G39: =E39+F39 -> 2478 | H39: X | I39: Payé le 31.03.2025-JPC250207 & JPC250302
A40: 28.02.2025 | B40: 250200540 | C40: FERTRANS | D40: 30.03.2025 | E40: 4230 | F40: 846 | G40: 5076 | H40: X | I40: Payé le 31.03.2025-SL250204,06,03,02,07 & JPC250203
A41: 28.02.2025 | B41: 27777 | C41: FCN ACES | D41: Pélèvement | E41: 1061.99 | F41: 212.4 | G41: =E41+F41 -> 1274.39 | H41: X | I41: Provision nº2/6
A42: 28.02.2025 | B42: P/BBOR500779 | C42: BUTIN SEDIC | D42: 29.04.2025 | E42: 3395.44 | F42: 679.09 | G42: =E42+F42 -> 4074.53 | H42: X | I42: Payé le 28.04.2025-Déductoin faite de 3522,65 €, suite double règlement-Prestations Février EUREAUSOURCE MAROLLES
A43: 28.02.2025 | B43: P/BBOR500778 | C43: BUTIN SEDIC | D43: 29.04.2025 | E43: 766.3 | F43: 153.26 | G43: =E43+F43 -> 919.56 | H43: X | I43: Payé le 28.04.2025-Prestation Février DEFEAUS HERMES
A44: 28.02.2025 | B44: 20250226 | C44: PILLON | D44: 30.03.2025 | E44: 330 | F44: =E44*0.2 -> 66 | G44: =E44+F44 -> 396 | H44: X | I44: Payé le 31.03.2025-Transport Agglo Beauvais-ARFP du 06.02.2025
...
